BEGIN:VCALENDAR
VERSION:2.0
PRODID:-//Dein Stoffmarkt - ECPv6.15.20//NONSGML v1.0//EN
CALSCALE:GREGORIAN
METHOD:PUBLISH
X-ORIGINAL-URL:https://deinstoffmarkt.de
X-WR-CALDESC:Veranstaltungen für Dein Stoffmarkt
REFRESH-INTERVAL;VALUE=DURATION:PT1H
X-Robots-Tag:noindex
X-PUBLISHED-TTL:PT1H
BEGIN:VTIMEZONE
TZID:Europe/Berlin
BEGIN:DAYLIGHT
TZOFFSETFROM:+0100
TZOFFSETTO:+0200
TZNAME:CEST
DTSTART:20240331T010000
END:DAYLIGHT
BEGIN:STANDARD
TZOFFSETFROM:+0200
TZOFFSETTO:+0100
TZNAME:CET
DTSTART:20241027T010000
END:STANDARD
BEGIN:DAYLIGHT
TZOFFSETFROM:+0100
TZOFFSETTO:+0200
TZNAME:CEST
DTSTART:20250330T010000
END:DAYLIGHT
BEGIN:STANDARD
TZOFFSETFROM:+0200
TZOFFSETTO:+0100
TZNAME:CET
DTSTART:20251026T010000
END:STANDARD
BEGIN:DAYLIGHT
TZOFFSETFROM:+0100
TZOFFSETTO:+0200
TZNAME:CEST
DTSTART:20260329T010000
END:DAYLIGHT
BEGIN:STANDARD
TZOFFSETFROM:+0200
TZOFFSETTO:+0100
TZNAME:CET
DTSTART:20261025T010000
END:STANDARD
END:VTIMEZONE
BEGIN:VEVENT
DTSTART;TZID=Europe/Berlin:20251024T100000
DTEND;TZID=Europe/Berlin:20251024T170000
DTSTAMP:20260420T124923
CREATED:20230621T092724Z
LAST-MODIFIED:20230621T092724Z
UID:3694-1761300000-1761325200@deinstoffmarkt.de
SUMMARY:Stoffmarkt Oranienburg
DESCRIPTION:Am Freitag\, den 24. Oktober 2025 von 10 bis 17 Uhr\, findet der Deutsch-Holländische Stoffmarkt in Oranienburg statt. Zahlreiche kreativ dekorierte und teilweise mit Stoff behangene Stände\, verwandeln den Schloßplatz in ein buntes Meer aus Farben und Mustern. \nEine kaum überschaubare Vielfalt an Stoffen und Zubehör regen die Lust am Selbermachen an. Wenn Ihnen noch die zündende Idee fehlt was Sie als nächstes machen sollen\, bietet der Stoffmarkt ausreichend Inspiration. \nWer auf der Suche nach bunten Motiven und Mustern ist\, zum Beispiel für die Innenraumgestaltung\, ist hier gut aufgehoben. Ob ein neuer Kissenbezug\, moderne Gardinen oder hochwertige Tischdecken\, hier bleiben wenige Wünsche offen. Auch für Kinder lassen sich süße Motive von bunten Punkten bis hin zu witzigen Bügelbildern toll kombinieren und zu einem Unikat machen. \nOb Stoffe\, Kurzwaren\, Nähzubehör oder Schnittmuster\, auf dem Stoffmarkt finden Hobbyschneiderinnen alles\, was das Näh-Herz höherschlagen lässt.
URL:https://deinstoffmarkt.de/termine/stoffmarkt-oranienburg/
LOCATION:Schloßplatz\, Oranienburg\, Schloßplatz 5\, Oranienburg\, Brandenburg\, 16515\, Deutschland
CATEGORIES:Stoffmarkt
ORGANIZER;CN="Expo Event Marketing GmbH Gesch%C3%A4ftsf%C3%BChrer%3A Marko Krstic":MAILTO:info@expo-em.de
END:VEVENT
END:VCALENDAR