BEGIN:VCALENDAR
VERSION:2.0
PRODID:-//Dein Stoffmarkt - ECPv6.15.20//NONSGML v1.0//EN
CALSCALE:GREGORIAN
METHOD:PUBLISH
X-WR-CALNAME:Dein Stoffmarkt
X-ORIGINAL-URL:https://deinstoffmarkt.de
X-WR-CALDESC:Veranstaltungen für Dein Stoffmarkt
REFRESH-INTERVAL;VALUE=DURATION:PT1H
X-Robots-Tag:noindex
X-PUBLISHED-TTL:PT1H
BEGIN:VTIMEZONE
TZID:Europe/Berlin
BEGIN:DAYLIGHT
TZOFFSETFROM:+0100
TZOFFSETTO:+0200
TZNAME:CEST
DTSTART:20240331T010000
END:DAYLIGHT
BEGIN:STANDARD
TZOFFSETFROM:+0200
TZOFFSETTO:+0100
TZNAME:CET
DTSTART:20241027T010000
END:STANDARD
BEGIN:DAYLIGHT
TZOFFSETFROM:+0100
TZOFFSETTO:+0200
TZNAME:CEST
DTSTART:20250330T010000
END:DAYLIGHT
BEGIN:STANDARD
TZOFFSETFROM:+0200
TZOFFSETTO:+0100
TZNAME:CET
DTSTART:20251026T010000
END:STANDARD
BEGIN:DAYLIGHT
TZOFFSETFROM:+0100
TZOFFSETTO:+0200
TZNAME:CEST
DTSTART:20260329T010000
END:DAYLIGHT
BEGIN:STANDARD
TZOFFSETFROM:+0200
TZOFFSETTO:+0100
TZNAME:CET
DTSTART:20261025T010000
END:STANDARD
END:VTIMEZONE
BEGIN:VEVENT
DTSTART;TZID=Europe/Berlin:20250712T100000
DTEND;TZID=Europe/Berlin:20250712T170000
DTSTAMP:20260420T172128
CREATED:20170606T112351Z
LAST-MODIFIED:20170606T112351Z
UID:1398-1752314400-1752339600@deinstoffmarkt.de
SUMMARY:Stoffmarkt Wuppertal
DESCRIPTION:Am Samstag\, den 12. Juli 2025 von 10-17 Uhr\, findet der Deutsch-Holländische Stoffmarkt wieder auf dem Laurentiusplatz in Wuppertal statt. Im Schatten der Basilika St. Laurentius präsentieren sich die Aussteller an zahlreichen Ständen. \nHier finden Nähbegeisterte nicht nur Stoffe und Nähzubehör\, sondern auch Inspiration. Umgeben von bunten Stoffen\, kommt die Idee für das nächste Design fast von allein. \nDank einer großen Auswahl an Kinderstoffe\, sind auch die Kleinsten unter uns schnell individuell eingekleidet. Das umfangreiche Angebot an Wohntextilien\, Deko-Stoffen\, Kissen und Vorhängen runden das Angebot ab. Somit bleibt auch beim Thema Innenraumgestaltung kaum ein Wunsch offen. \nAbgerundet wird das Angebot durch eine riesige Auswahl an Schnittmustern und Kurzwaren wie Applikationen\, Borten\, Nadeln oder Garn.
URL:https://deinstoffmarkt.de/termine/stoffmarkt-wuppertal/
LOCATION:Laurentiusplatz\, Wuppertal\, Laurentiusplatz\, Wuppertal\, Nordrhein-Westfalen\, 42103\, Deutschland
CATEGORIES:Stoffmarkt
ORGANIZER;CN="Expo Event Marketing GmbH Gesch%C3%A4ftsf%C3%BChrer%3A Marko Krstic":MAILTO:info@expo-em.de
END:VEVENT
END:VCALENDAR