BEGIN:VCALENDAR
VERSION:2.0
PRODID:-//Dein Stoffmarkt - ECPv6.15.20//NONSGML v1.0//EN
CALSCALE:GREGORIAN
METHOD:PUBLISH
X-ORIGINAL-URL:https://deinstoffmarkt.de
X-WR-CALDESC:Veranstaltungen für Dein Stoffmarkt
REFRESH-INTERVAL;VALUE=DURATION:PT1H
X-Robots-Tag:noindex
X-PUBLISHED-TTL:PT1H
BEGIN:VTIMEZONE
TZID:Europe/Berlin
BEGIN:DAYLIGHT
TZOFFSETFROM:+0100
TZOFFSETTO:+0200
TZNAME:CEST
DTSTART:20240331T010000
END:DAYLIGHT
BEGIN:STANDARD
TZOFFSETFROM:+0200
TZOFFSETTO:+0100
TZNAME:CET
DTSTART:20241027T010000
END:STANDARD
BEGIN:DAYLIGHT
TZOFFSETFROM:+0100
TZOFFSETTO:+0200
TZNAME:CEST
DTSTART:20250330T010000
END:DAYLIGHT
BEGIN:STANDARD
TZOFFSETFROM:+0200
TZOFFSETTO:+0100
TZNAME:CET
DTSTART:20251026T010000
END:STANDARD
BEGIN:DAYLIGHT
TZOFFSETFROM:+0100
TZOFFSETTO:+0200
TZNAME:CEST
DTSTART:20260329T010000
END:DAYLIGHT
BEGIN:STANDARD
TZOFFSETFROM:+0200
TZOFFSETTO:+0100
TZNAME:CET
DTSTART:20261025T010000
END:STANDARD
END:VTIMEZONE
BEGIN:VEVENT
DTSTART;TZID=Europe/Berlin:20250614T100000
DTEND;TZID=Europe/Berlin:20250614T170000
DTSTAMP:20260420T190729
CREATED:20170403T213234Z
LAST-MODIFIED:20170403T213234Z
UID:875-1749895200-1749920400@deinstoffmarkt.de
SUMMARY:Stoffmarkt Rostock
DESCRIPTION:Am Samstag\, den 14. Juni 2025 von 10-17 Uhr\, gastiert der Deutsch-Holländische Stoffmarkt wieder in Rostock. Zahlreiche bunt dekorierte Stände verwandeln dieses Mal jedoch den Neuen Markt in ein buntes Paradies für Selbermacher. \nAnders als beim Online-Handel\, hat hier jeder Besucher die Möglichkeit die Produkte in die Hand zu nehmen und die Qualität selbst zu begutachten\, denn Stoffe muss man fühlen. Zudem punkten die Aussteller mit fachlicher Kompetenz bei der Beratung und geben Besuchern gerne Infos über die Ware – vom Rohstoff über die Handelsbedingungen bis zur Färbung. \nUnzählige Stoffe in allen nur erdenklichen Mustern\, Farben und Qualitäten können begutachtet und verglichen werden. Das große Sortiment an Kinderstoffen lädt förmlich dazu ein\, die Kinderkleidung selbst zu gestalten und sich bei den bunten Mustern mit witzigen Tiermotiven auszutoben. \nAbgerundet wird das Angebot durch eine riesige Auswahl an Schnittmustern und Kurzwaren wie Applikationen\, Borten\, Nadeln oder Garn. \nDer Eintritt zum Stoffmarkt ist wie gewohnt frei.
URL:https://deinstoffmarkt.de/termine/stoffmarkt-rostock/
LOCATION:Neuer Markt\, Rostock\, Neuer Markt 14\, Rostock\, Mecklenburg-Vorpommern\, 18055\, Deutschland
CATEGORIES:Stoffmarkt
ORGANIZER;CN="Expo Event Marketing GmbH Gesch%C3%A4ftsf%C3%BChrer%3A Marko Krstic":MAILTO:info@expo-em.de
END:VEVENT
BEGIN:VEVENT
DTSTART;TZID=Europe/Berlin:20250629T110000
DTEND;TZID=Europe/Berlin:20250629T170000
DTSTAMP:20260420T190729
CREATED:20170403T213543Z
LAST-MODIFIED:20170403T213543Z
UID:879-1751194800-1751216400@deinstoffmarkt.de
SUMMARY:Stoffmarkt Braunschweig
DESCRIPTION:Am Sonntag\, den 29. Juni 2025 von 11-17 Uhr\, findet der Deutsch-Holländische Stoffmarkt wieder in Braunschweig statt. An zahlreichen bunt dekorierten und teilweise mit Stoffen behangenen Ständen präsentieren sich die Aussteller auf dem IKEA-Parkplatz. \nNähliebhaber wissen – Stoffe müssen nicht nur gut aussehen\, sie müssen sich auch gut anfühlen. Dies ist ein großer Vorteil des Stoffmarktes gegenüber dem Online-Handel\, denn hier kann jeder Besucher die Produkte in die Hand nehmen und die Qualität selbst begutachten. \nViele Besucher schätzen auch den direkten Kontakt zum Experten. Vor allem für Nähneulinge bietet dies eine gute Möglichkeit sich vor dem Kauf beraten zu lassen oder hilfreiche Tipps zu bekommen\, damit das Nähprojekt auch ein voller Erfolg wird. \nAbgerundet wird das Angebot durch eine riesige Auswahl an Schnittmustern und Kurzwaren wie Applikationen\, Borten\, Nadeln oder Garn. \nDer Eintritt zum Stoffmarkt ist wie gewohnt frei.
URL:https://deinstoffmarkt.de/termine/stoffmarkt-braunschweig/
LOCATION:Privat: Hansestr. 27\, Hansestr. 27\, Braunschweig\, Niedersachsen\, 38112\, Germany
CATEGORIES:Stoffmarkt
ORGANIZER;CN="Expo Event Marketing GmbH Gesch%C3%A4ftsf%C3%BChrer%3A Marko Krstic":MAILTO:info@expo-em.de
END:VEVENT
END:VCALENDAR