BEGIN:VCALENDAR
VERSION:2.0
PRODID:-//Dein Stoffmarkt - ECPv6.15.20//NONSGML v1.0//EN
CALSCALE:GREGORIAN
METHOD:PUBLISH
X-WR-CALNAME:Dein Stoffmarkt
X-ORIGINAL-URL:https://deinstoffmarkt.de
X-WR-CALDESC:Veranstaltungen für Dein Stoffmarkt
REFRESH-INTERVAL;VALUE=DURATION:PT1H
X-Robots-Tag:noindex
X-PUBLISHED-TTL:PT1H
BEGIN:VTIMEZONE
TZID:Europe/Berlin
BEGIN:DAYLIGHT
TZOFFSETFROM:+0100
TZOFFSETTO:+0200
TZNAME:CEST
DTSTART:20240331T010000
END:DAYLIGHT
BEGIN:STANDARD
TZOFFSETFROM:+0200
TZOFFSETTO:+0100
TZNAME:CET
DTSTART:20241027T010000
END:STANDARD
BEGIN:DAYLIGHT
TZOFFSETFROM:+0100
TZOFFSETTO:+0200
TZNAME:CEST
DTSTART:20250330T010000
END:DAYLIGHT
BEGIN:STANDARD
TZOFFSETFROM:+0200
TZOFFSETTO:+0100
TZNAME:CET
DTSTART:20251026T010000
END:STANDARD
BEGIN:DAYLIGHT
TZOFFSETFROM:+0100
TZOFFSETTO:+0200
TZNAME:CEST
DTSTART:20260329T010000
END:DAYLIGHT
BEGIN:STANDARD
TZOFFSETFROM:+0200
TZOFFSETTO:+0100
TZNAME:CET
DTSTART:20261025T010000
END:STANDARD
END:VTIMEZONE
BEGIN:VEVENT
DTSTART;TZID=Europe/Berlin:20250502T100000
DTEND;TZID=Europe/Berlin:20250502T170000
DTSTAMP:20260420T202756
CREATED:20170602T102319Z
LAST-MODIFIED:20170602T102319Z
UID:1384-1746180000-1746205200@deinstoffmarkt.de
SUMMARY:Stoffmarkt Herne
DESCRIPTION:Am Freitag\, den 2. Mai 2025 von 10-17 Uhr\, findet der Deutsch-Holländische Stoffmarkt wieder in Herne statt. Zahlreiche bunt dekorierte und teilweise mit Stoff behangene Stände lassen die Innenstadt (Bahnhofstr. 35) wieder aus allen Nähten platzen. \nFür viele Nähbegeisterte steht an erster Stelle\, etwas Persönliches oder Originelles zu gestalten. Fehlt die zündende Idee\, was als nächstes gemacht werden soll? Dann lassen Sie sich auf dem Stoffmarkt inspirieren. Das richtige Material für Ihr nächstes Design ist hier schnell gefunden. \nNatürlich wird den Besuchern auch vieles für die Innenraumgestaltung geboten. Ein neuer Bezug für die Polster\, modische Gardinen oder ein interessanter Tischläufer\, Ihrer Kreativität sind kaum Grenzen gesetzt. \nAbgerundet wird das Angebot durch eine riesige Auswahl an Schnittmustern und Kurzwaren wie Applikationen\, Borten\, Nadeln oder Garn.
URL:https://deinstoffmarkt.de/termine/stoffmarkt-herne/
LOCATION:Bahnhofstraße\, Herne\, Bahnhofstraße 35\, Herne\, Nordrhein-Westfalen\, 44623\, Germany
CATEGORIES:Stoffmarkt
ORGANIZER;CN="Expo Event Marketing GmbH Gesch%C3%A4ftsf%C3%BChrer%3A Marko Krstic":MAILTO:info@expo-em.de
END:VEVENT
END:VCALENDAR