BEGIN:VCALENDAR
VERSION:2.0
PRODID:-//Dein Stoffmarkt - ECPv6.15.20//NONSGML v1.0//EN
CALSCALE:GREGORIAN
METHOD:PUBLISH
X-WR-CALNAME:Dein Stoffmarkt
X-ORIGINAL-URL:https://deinstoffmarkt.de
X-WR-CALDESC:Veranstaltungen für Dein Stoffmarkt
REFRESH-INTERVAL;VALUE=DURATION:PT1H
X-Robots-Tag:noindex
X-PUBLISHED-TTL:PT1H
BEGIN:VTIMEZONE
TZID:Europe/Berlin
BEGIN:DAYLIGHT
TZOFFSETFROM:+0100
TZOFFSETTO:+0200
TZNAME:CEST
DTSTART:20230326T010000
END:DAYLIGHT
BEGIN:STANDARD
TZOFFSETFROM:+0200
TZOFFSETTO:+0100
TZNAME:CET
DTSTART:20231029T010000
END:STANDARD
BEGIN:DAYLIGHT
TZOFFSETFROM:+0100
TZOFFSETTO:+0200
TZNAME:CEST
DTSTART:20240331T010000
END:DAYLIGHT
BEGIN:STANDARD
TZOFFSETFROM:+0200
TZOFFSETTO:+0100
TZNAME:CET
DTSTART:20241027T010000
END:STANDARD
BEGIN:DAYLIGHT
TZOFFSETFROM:+0100
TZOFFSETTO:+0200
TZNAME:CEST
DTSTART:20250330T010000
END:DAYLIGHT
BEGIN:STANDARD
TZOFFSETFROM:+0200
TZOFFSETTO:+0100
TZNAME:CET
DTSTART:20251026T010000
END:STANDARD
END:VTIMEZONE
BEGIN:VEVENT
DTSTART;TZID=Europe/Berlin:20241006T110000
DTEND;TZID=Europe/Berlin:20241006T180000
DTSTAMP:20260421T080748
CREATED:20240704T212025Z
LAST-MODIFIED:20240704T212025Z
UID:4379-1728212400-1728237600@deinstoffmarkt.de
SUMMARY:Stoffmarkt Senden an der Iller
DESCRIPTION:Am Sonntag\, den 6. Oktober 2024 von 11-18 Uhr\, feiert der Deutsch-Holländische Stoffmarkt Premiere in Sendener an der Iller City (Hauptstraße). \nHier finden Nähbegeisterte nicht nur Stoffe und Nähzubehör\, sondern auch Inspiration. Umgeben von bunten Stoffen\, kommt die Idee für das nächste Design fast von allein. \nDank einer großen Auswahl an Kinderstoffe\, sind auch die Kleinsten unter uns schnell individuell eingekleidet. Das umfangreiche Angebot an Wohntextilien\, Deko-Stoffen\, Kissen und Vorhängen runden das Angebot ab. Somit bleibt auch beim Thema Innenraumgestaltung kaum ein Wunsch offen. \nAbgerundet wird das Angebot durch eine riesige Auswahl an Schnittmustern und Kurzwaren wie Applikationen\, Borten\, Nadeln oder Garn. \nDer Eintritt zum Stoffmarkt ist frei!
URL:https://deinstoffmarkt.de/termine/stoffmarkt-senden-an-der-iller/
LOCATION:City\, Senden an der Iller\, Hauptstraße 59\, Senden\, Bayern\, 89250\, Deutschland
CATEGORIES:Stoffmarkt
ORGANIZER;CN="Expo Event Marketing GmbH Gesch%C3%A4ftsf%C3%BChrer%3A Marko Krstic":MAILTO:info@expo-em.de
END:VEVENT
BEGIN:VEVENT
DTSTART;TZID=Europe/Berlin:20241020T110000
DTEND;TZID=Europe/Berlin:20241020T170000
DTSTAMP:20260421T080748
CREATED:20170403T212740Z
LAST-MODIFIED:20170403T212740Z
UID:869-1729422000-1729443600@deinstoffmarkt.de
SUMMARY:Stoffmarkt Ingolstadt
DESCRIPTION:Am Sonntag\, den 20. Oktober 2024 von 11-17 Uhr\, gastiert der Deutsch-Holländische Stoffmarkt wieder in Ingolstadt. Zahlreiche kreativ dekorierte Stände verwandeln den Volksfestplatz in ein buntes Stoffparadies für Nähbegeisterte aus der gesamten Region. \nEgal ob man sich selbst mit einem modernen Freizeitkleid beschenken oder dem Kind mit einem farbenfrohen Shirt eine Freude machen will. Das passende Material für ihr nächstes Design ist auf dem Stoffmarkt schnell gefunden. Umgeben von zahlreichen Stoffen und anderen Nähinspirationen kommt der Anreiz zum „Selbernähen“ schon beim Schlendern von Stand zu Stand. \nBei dem umfangreichen Sortiment an Wohntextilien\, Deko-Stoffen\, Kissen und Vorhängen bleibt auch beim Thema „Innenraumgestaltung“ kaum ein Wunsch offen. \nAbgerundet wird das Angebot durch eine riesige Auswahl an Schnittmustern und Kurzwaren wie Applikationen\, Borten\, Nadeln oder Garn. \n 
URL:https://deinstoffmarkt.de/termine/stoffmarkt-ingolstadt/
LOCATION:Ingolstadt\, Festplatz\, 48.77109203800675\, 11.423858448034377\, Ingolstadt\, Bayern\, 85049\, Deutschland
CATEGORIES:Stoffmarkt
ORGANIZER;CN="Expo Event Marketing GmbH Gesch%C3%A4ftsf%C3%BChrer%3A Marko Krstic":MAILTO:info@expo-em.de
END:VEVENT
BEGIN:VEVENT
DTSTART;TZID=Europe/Berlin:20241027T110000
DTEND;TZID=Europe/Berlin:20241027T180000
DTSTAMP:20260421T080748
CREATED:20240704T213604Z
LAST-MODIFIED:20240704T213604Z
UID:4388-1730026800-1730052000@deinstoffmarkt.de
SUMMARY:Stoffmarkt Schwerte
DESCRIPTION:Am Sonntag\, den 27. Oktober 2024 von 11-18 Uhr\, feiert der Deutsch-Holländische Stoffmarkt Premiere in Schwerte. Zahlreiche kreativ dekorierte Stände verwandeln den Postplatz und die Bahnhofstraße in ein buntes Paradies für Selbermacher. \nAnders als beim Online-Handel\, hat hier jeder Besucher die Möglichkeit die Produkte in die Hand zu nehmen und die Qualität selbst zu begutachten\, denn Stoffe muss man fühlen. Zudem punkten die Aussteller mit fachlicher Kompetenz bei der Beratung und geben Besuchern gerne Infos über die Ware – vom Rohstoff über die Handelsbedingungen bis zur Färbung. \nUnzählige Stoffe in allen nur erdenklichen Mustern\, Farben und Qualitäten können begutachtet und verglichen werden. Das große Sortiment an Kinderstoffen lädt förmlich dazu ein\, die Kinderkleidung selbst zu gestalten und sich bei den bunten Mustern mit witzigen Tiermotiven auszutoben. \nAbgerundet wird das Angebot durch eine riesige Auswahl an Schnittmustern und Kurzwaren wie Applikationen\, Borten\, Nadeln oder Garn. \nDer Eintritt ist frei!
URL:https://deinstoffmarkt.de/termine/stoffmarkt-schwerte/
LOCATION:Postplatz & Bahnhofstraße\, Schwerte\, Postplatz 5\, Schwerte\, Nordrhein-Westfalen\, 58239\, Deutschland
CATEGORIES:Stoffmarkt
ORGANIZER;CN="Expo Event Marketing GmbH Gesch%C3%A4ftsf%C3%BChrer%3A Marko Krstic":MAILTO:info@expo-em.de
END:VEVENT
END:VCALENDAR