BEGIN:VCALENDAR
VERSION:2.0
PRODID:-//Dein Stoffmarkt - ECPv6.15.20//NONSGML v1.0//EN
CALSCALE:GREGORIAN
METHOD:PUBLISH
X-WR-CALNAME:Dein Stoffmarkt
X-ORIGINAL-URL:https://deinstoffmarkt.de
X-WR-CALDESC:Veranstaltungen für Dein Stoffmarkt
REFRESH-INTERVAL;VALUE=DURATION:PT1H
X-Robots-Tag:noindex
X-PUBLISHED-TTL:PT1H
BEGIN:VTIMEZONE
TZID:Europe/Berlin
BEGIN:DAYLIGHT
TZOFFSETFROM:+0100
TZOFFSETTO:+0200
TZNAME:CEST
DTSTART:20230326T010000
END:DAYLIGHT
BEGIN:STANDARD
TZOFFSETFROM:+0200
TZOFFSETTO:+0100
TZNAME:CET
DTSTART:20231029T010000
END:STANDARD
BEGIN:DAYLIGHT
TZOFFSETFROM:+0100
TZOFFSETTO:+0200
TZNAME:CEST
DTSTART:20240331T010000
END:DAYLIGHT
BEGIN:STANDARD
TZOFFSETFROM:+0200
TZOFFSETTO:+0100
TZNAME:CET
DTSTART:20241027T010000
END:STANDARD
BEGIN:DAYLIGHT
TZOFFSETFROM:+0100
TZOFFSETTO:+0200
TZNAME:CEST
DTSTART:20250330T010000
END:DAYLIGHT
BEGIN:STANDARD
TZOFFSETFROM:+0200
TZOFFSETTO:+0100
TZNAME:CET
DTSTART:20251026T010000
END:STANDARD
END:VTIMEZONE
BEGIN:VEVENT
DTSTART;TZID=Europe/Berlin:20240907T100000
DTEND;TZID=Europe/Berlin:20240907T170000
DTSTAMP:20260421T093202
CREATED:20170619T081613Z
LAST-MODIFIED:20170619T081613Z
UID:1448-1725703200-1725728400@deinstoffmarkt.de
SUMMARY:Stoffmarkt Remscheid
DESCRIPTION:Am Samstag\, den 7. September 2024 von 10-17 Uhr\, findet der Deutsch-Holländische Stoffmarkt wieder in Remscheid statt. Zahlreiche kreativ dekorierte und teilweise mit Stoff behangene Stände locken dieses Mal jedoch zahlreiche Nähbegeisterte aus der gesamten Region auf den Schützenplatz. \nDie kaum überschaubare Vielfalt an Stoffen und Zubehör regen die Lust am Selbermachen an. Das richtige Material für das nächste Projekt ist hier schnell gefunden. \nMeterweise Materialien für Deko-\, Gardinen-\, Möbel- und andere Heimtextilien\, lassen auch beim Thema Innenraumgestaltung kaum einen Wunsch offen. Abgerundet wird das Angebot durch eine riesige Auswahl an Schnittmustern und Kurzwaren wie Applikationen\, Borten\, Nadeln oder Garn. \nDer Eintritt ist wie gewohnt frei!
URL:https://deinstoffmarkt.de/termine/stoffmarkt-remscheid/
LOCATION:Schützenplatz\, Remscheid\, Schützenplatz 1\, Remscheid\, Nordrhein-Westfalen\, 42853\, Deutschland
CATEGORIES:Stoffmarkt
ORGANIZER;CN="Expo Event Marketing GmbH Gesch%C3%A4ftsf%C3%BChrer%3A Marko Krstic":MAILTO:info@expo-em.de
END:VEVENT
BEGIN:VEVENT
DTSTART;TZID=Europe/Berlin:20240921T100000
DTEND;TZID=Europe/Berlin:20240921T170000
DTSTAMP:20260421T093202
CREATED:20170511T104817Z
LAST-MODIFIED:20170511T104817Z
UID:1321-1726912800-1726938000@deinstoffmarkt.de
SUMMARY:Stoffmarkt Borken
DESCRIPTION:Am Samstag\, den 21. September 2024 von 10-17 Uhr\, gastiert der Deutsch-Holländische Stoffmarkt wieder in Borken. Zahlreiche bunt dekorierte Stände locken wieder unzählige Nähbegeisterte aus der gesamten Region auf den Marktplatz. \nFür viele Nähbegeisterte steht an erster Stelle\, etwas Persönliches oder Originelles zu gestalten. Fehlt die zündende Idee\, was als nächstes gemacht werden soll? Dann lassen Sie sich auf dem Deutsch-Holländischen Stoffmarkt inspirieren. Das richtige Material für Ihr nächstes Design ist hier sicher dabei. \nWer auf der Suche nach bunten Motiven und Mustern ist\, zum Beispiel für die Innenraumgestaltung\, ist hier gut aufgehoben. Ob ein neuer Kissenbezug\, moderne Gardinen oder hochwertige Tischdecken\, hier bleiben wenige Wünsche offen. Auch für Kinder lassen sich süße Motive von bunten Punkten bis hin zu witzigen Bügelbildern toll kombinieren und zu einem Unikat machen. \nDer Eintritt zum Stoffmarkt ist wie gewohnt frei!
URL:https://deinstoffmarkt.de/termine/stoffmarkt-borken/
LOCATION:Markt\, Borken\, Markt 17\, Borken\, Nordrhein-Westfalen\, 46325\, Deutschland
CATEGORIES:Stoffmarkt
ORGANIZER;CN="Expo Event Marketing GmbH Gesch%C3%A4ftsf%C3%BChrer%3A Marko Krstic":MAILTO:info@expo-em.de
END:VEVENT
END:VCALENDAR