BEGIN:VCALENDAR
VERSION:2.0
PRODID:-//Dein Stoffmarkt - ECPv6.15.20//NONSGML v1.0//EN
CALSCALE:GREGORIAN
METHOD:PUBLISH
X-WR-CALNAME:Dein Stoffmarkt
X-ORIGINAL-URL:https://deinstoffmarkt.de
X-WR-CALDESC:Veranstaltungen für Dein Stoffmarkt
REFRESH-INTERVAL;VALUE=DURATION:PT1H
X-Robots-Tag:noindex
X-PUBLISHED-TTL:PT1H
BEGIN:VTIMEZONE
TZID:Europe/Berlin
BEGIN:DAYLIGHT
TZOFFSETFROM:+0100
TZOFFSETTO:+0200
TZNAME:CEST
DTSTART:20230326T010000
END:DAYLIGHT
BEGIN:STANDARD
TZOFFSETFROM:+0200
TZOFFSETTO:+0100
TZNAME:CET
DTSTART:20231029T010000
END:STANDARD
BEGIN:DAYLIGHT
TZOFFSETFROM:+0100
TZOFFSETTO:+0200
TZNAME:CEST
DTSTART:20240331T010000
END:DAYLIGHT
BEGIN:STANDARD
TZOFFSETFROM:+0200
TZOFFSETTO:+0100
TZNAME:CET
DTSTART:20241027T010000
END:STANDARD
BEGIN:DAYLIGHT
TZOFFSETFROM:+0100
TZOFFSETTO:+0200
TZNAME:CEST
DTSTART:20250330T010000
END:DAYLIGHT
BEGIN:STANDARD
TZOFFSETFROM:+0200
TZOFFSETTO:+0100
TZNAME:CET
DTSTART:20251026T010000
END:STANDARD
END:VTIMEZONE
BEGIN:VEVENT
DTSTART;TZID=Europe/Berlin:20240608T100000
DTEND;TZID=Europe/Berlin:20240608T170000
DTSTAMP:20260421T134039
CREATED:20240113T185857Z
LAST-MODIFIED:20240113T185857Z
UID:4045-1717840800-1717866000@deinstoffmarkt.de
SUMMARY:Stoffmarkt Bayreuth
DESCRIPTION:Am Samstag\, den 08. Juni 2024 von 10-17 Uhr\, feien wir unsere Stoffmarkt Premiere in Bayreuth. Zahlreiche kreativ dekorierte Stände verwandeln den Volksfestplatz in ein buntes Paradies für Nähbegeisterte. \nHier finden Stoffenthusiasten alles\, was das Herz einer jeden Nähbegeisterten höherschlagen lässt. Die riesige Auswahl an Stoffen und Zubehör lässt kaum einen Wunsch offen. Das Nähen ist wieder voll im Trend. \nDank einer großen Auswahl an Wohntextilien und Deko-Stoffen\, kommen auch Freunde der Innenraumgestaltung auf ihre Kosten. \nAbgerundet wird das Angebot durch eine riesige Auswahl an Schnittmustern und Kurzwaren wie Applikationen\, Borten\, Nadeln oder Garn.
URL:https://deinstoffmarkt.de/termine/stoffmarkt-bayreuth/
LOCATION:Baden-Württemberg
CATEGORIES:Stoffmarkt
ORGANIZER;CN="Expo Event Marketing GmbH Gesch%C3%A4ftsf%C3%BChrer%3A Marko Krstic":MAILTO:info@expo-em.de
END:VEVENT
BEGIN:VEVENT
DTSTART;TZID=Europe/Berlin:20240609T110000
DTEND;TZID=Europe/Berlin:20240609T170000
DTSTAMP:20260421T134039
CREATED:20230621T101805Z
LAST-MODIFIED:20230621T101805Z
UID:3715-1717930800-1717952400@deinstoffmarkt.de
SUMMARY:Stoffmarkt Landshut
DESCRIPTION:Am Sonntag\, den 09. Juni 2024 von 11 bis 17 Uhr\, feiert der Deutsch-Holländische Stoffmarkt Premiere in Landshut. Zahlreiche kreativ dekorierte und teilweise mit Stoff behangene Stände\, verwandeln den Landshut Park (Ludwig-Erhard-Str. 9) in ein buntes Meer aus Farben und Mustern. \nEine kaum überschaubare Vielfalt an Stoffen und Zubehör regen die Lust am Selbermachen an. Wenn Ihnen noch die zündende Idee fehlt was Sie als nächstes machen sollen\, bietet der Stoffmarkt ausreichend Inspiration. \nWer auf der Suche nach bunten Motiven und Mustern ist\, zum Beispiel für die Innenraumgestaltung\, ist hier gut aufgehoben. Ob ein neuer Kissenbezug\, moderne Gardinen oder hochwertige Tischdecken\, hier bleiben wenige Wünsche offen. Auch für Kinder lassen sich süße Motive von bunten Punkten bis hin zu witzigen Bügelbildern toll kombinieren und zu einem Unikat machen. \nOb Stoffe\, Kurzwaren\, Nähzubehör oder Schnittmuster\, auf dem Stoffmarkt finden Hobbyschneiderinnen alles\, was das Näh-Herz höherschlagen lässt. \nDer Eintritt zum Stoffmarkt ist frei.
URL:https://deinstoffmarkt.de/termine/stoffmarkt-landshut/
LOCATION:Landshut Park\, Landshut\, Ludwig-Erhard-Str. 9\, Landshut\, Bayern\, 84034\, Deutschland
CATEGORIES:Stoffmarkt
ORGANIZER;CN="Expo Event Marketing GmbH Gesch%C3%A4ftsf%C3%BChrer%3A Marko Krstic":MAILTO:info@expo-em.de
END:VEVENT
END:VCALENDAR