BEGIN:VCALENDAR
VERSION:2.0
PRODID:-//Dein Stoffmarkt - ECPv6.15.20//NONSGML v1.0//EN
CALSCALE:GREGORIAN
METHOD:PUBLISH
X-WR-CALNAME:Dein Stoffmarkt
X-ORIGINAL-URL:https://deinstoffmarkt.de
X-WR-CALDESC:Veranstaltungen für Dein Stoffmarkt
REFRESH-INTERVAL;VALUE=DURATION:PT1H
X-Robots-Tag:noindex
X-PUBLISHED-TTL:PT1H
BEGIN:VTIMEZONE
TZID:Europe/Berlin
BEGIN:DAYLIGHT
TZOFFSETFROM:+0100
TZOFFSETTO:+0200
TZNAME:CEST
DTSTART:20230326T010000
END:DAYLIGHT
BEGIN:STANDARD
TZOFFSETFROM:+0200
TZOFFSETTO:+0100
TZNAME:CET
DTSTART:20231029T010000
END:STANDARD
BEGIN:DAYLIGHT
TZOFFSETFROM:+0100
TZOFFSETTO:+0200
TZNAME:CEST
DTSTART:20240331T010000
END:DAYLIGHT
BEGIN:STANDARD
TZOFFSETFROM:+0200
TZOFFSETTO:+0100
TZNAME:CET
DTSTART:20241027T010000
END:STANDARD
BEGIN:DAYLIGHT
TZOFFSETFROM:+0100
TZOFFSETTO:+0200
TZNAME:CEST
DTSTART:20250330T010000
END:DAYLIGHT
BEGIN:STANDARD
TZOFFSETFROM:+0200
TZOFFSETTO:+0100
TZNAME:CET
DTSTART:20251026T010000
END:STANDARD
END:VTIMEZONE
BEGIN:VEVENT
DTSTART;TZID=Europe/Berlin:20240504T100000
DTEND;TZID=Europe/Berlin:20240504T170000
DTSTAMP:20260421T150609
CREATED:20170606T114553Z
LAST-MODIFIED:20170606T114553Z
UID:1405-1714816800-1714842000@deinstoffmarkt.de
SUMMARY:Stoffmarkt Heilbronn
DESCRIPTION:Am Samstag\, den 04. Mai  2024  von 10-17 Uhr\, gastiert der Deutsch-Holländische Stoffmarkt wieder in Heilbronn. Zahlreiche bunt dekorierte und teilweise mit Stoff behangene Stände lassen die Untere Neckarstraße sprichwörtlich aus allen Nähten platzen. \nFür viele Nähbegeisterte steht an erster Stelle\, etwas Persönliches oder Originelles zu gestalten. Fehlt die zündende Idee\, was als nächstes gemacht werden soll? Dann lassen Sie sich auf dem Stoffmarkt inspirieren. Das richtige Material für Ihr nächstes Nähprojekt ist hier schnell gefunden. \nNeben der riesigen Auswahl an Stoffen und Nähzubehör\, bietet der Stoffmarkt Nähbegeisterten ein kommunikatives Forum um zu fachsimpeln oder sich einfach auszutauschen. Umgeben von so vielen Farben\, Mustern und anderen Stoffenthusiasten\, kommt die Inspiration fast von allein. \nDank eines umfangreichen Sortiments an Wohntextilien und Deko-Stoffen wird auch Freunden der Innenraumgestaltung viel geboten.
URL:https://deinstoffmarkt.de/termine/stoffmarkt-heilbronn/
LOCATION:Untere Neckarstraße\, Heilbronn\, Untere Neckarstraße\, Heilbronn\, Baden-Württemberg\, 74072\, Deutschland
CATEGORIES:Stoffmarkt
ORGANIZER;CN="Expo Event Marketing GmbH Gesch%C3%A4ftsf%C3%BChrer%3A Marko Krstic":MAILTO:info@expo-em.de
END:VEVENT
BEGIN:VEVENT
DTSTART;TZID=Europe/Berlin:20240510T100000
DTEND;TZID=Europe/Berlin:20240510T170000
DTSTAMP:20260421T150609
CREATED:20170512T070845Z
LAST-MODIFIED:20170512T070845Z
UID:1353-1715335200-1715360400@deinstoffmarkt.de
SUMMARY:Stoffmarkt Kaiserslautern
DESCRIPTION:Am Freitag\, den 10. Mai 2024 von 10-17 Uhr\, findet der Deutsch-Holländische Stoffmarkt wieder in Kaiserslautern statt. Zahlreiche kreativ dekorierte Stände verwandeln den Stiftsplatz sprichwörtlich in ein buntes Meer aus Farben und Mustern. \nDer Deutsch-Holländische Stoffmarkt bietet alles\, was das Herz einer jeden Nähbegeisterten höherschlagen lässt. Ob nun eine schicke Jacke\, eine modische Tasche oder ein neuer Schal\, der richtige Stoff dafür liegt schon bereit. Kreative Köpfe werden sicherlich ein farbenfrohes Design aus bunten Knöpfen\, niedlichen Tiermotiven und süßen Webbändern gestalten können. So ist auch für die Kinder das passende Outfit oder Accessoire schnell gefunden. \nAuch Freunde der Innenraumgestaltung kommen auf ihre Kosten. Beim gemütlichen Schlendern durch die Stände\, kann man sich schnell einen Überblick über zahlreiche Wohntextilien\, Deko-Stoffe\, Kissen oder Vorhänge verschaffen. \nAbgerundet wird das Angebot durch eine riesige Auswahl an Schnittmustern und Kurzwaren wie Applikationen\, Borten\, Nadeln oder Garn.
URL:https://deinstoffmarkt.de/termine/stoffmarkt-kaiserslautern/
LOCATION:Stiftsplatz\, Kaiserslautern\, 49.44458404231221\, 7.772489144826642\, Kaiserslautern\, Rheinland-Pfalz\, 67655\, Deutschland
CATEGORIES:Stoffmarkt
ORGANIZER;CN="Expo Event Marketing GmbH Gesch%C3%A4ftsf%C3%BChrer%3A Marko Krstic":MAILTO:info@expo-em.de
END:VEVENT
BEGIN:VEVENT
DTSTART;TZID=Europe/Berlin:20240511T100000
DTEND;TZID=Europe/Berlin:20240511T170000
DTSTAMP:20260421T150609
CREATED:20170402T214427Z
LAST-MODIFIED:20170402T214427Z
UID:840-1715421600-1715446800@deinstoffmarkt.de
SUMMARY:Stoffmarkt Hofheim
DESCRIPTION:Am Samstag\, den 11. Mai 2024 von 10-17 Uhr\, findet der Deutsch-Holländische Stoffmarkt wieder in Hofheim statt. Zahlreiche kreativ dekorierte Stände verwandeln den Kellereiplatz in ein buntes Paradies für Selbermacher. \nNähliebhaber wissen – Stoffe müssen nicht nur gut aussehen\, sie müssen sich auch gut anfühlen. Dies ist ein großer Vorteil des Stoffmarktes gegenüber dem Online-Handel\, denn hier kann jeder Besucher die Produkte in die Hand nehmen und die Qualität selbst begutachten. \nViele Besucher schätzen auch den direkten Kontakt zum Experten. Vor allem für Nähneulinge bietet dies eine gute Möglichkeit sich vor dem Kauf beraten zu lassen oder hilfreiche Tipps zu bekommen\, damit das Nähprojekt auch ein voller Erfolg wird. \nAbgerundet wird das Angebot durch eine riesige Auswahl an Schnittmustern und Kurzwaren wie Applikationen\, Borten\, Nadeln oder Garn.
URL:https://deinstoffmarkt.de/termine/stoffmarkt-hofheim/
LOCATION:Hofheim am Taunus\, Kellereiplatz\, Kellereiplatz\, 65719 Hofheim am Taunus\, Germany\, Kellereiplatz\, Hessen\, 65719\, Deutschland
CATEGORIES:Stoffmarkt
ORGANIZER;CN="Expo Event Marketing GmbH Gesch%C3%A4ftsf%C3%BChrer%3A Marko Krstic":MAILTO:info@expo-em.de
END:VEVENT
BEGIN:VEVENT
DTSTART;TZID=Europe/Berlin:20240512T110000
DTEND;TZID=Europe/Berlin:20240512T170000
DTSTAMP:20260421T150609
CREATED:20170423T132038Z
LAST-MODIFIED:20170423T132038Z
UID:1244-1715511600-1715533200@deinstoffmarkt.de
SUMMARY:Stoffmarkt Hennef
DESCRIPTION:Am Sonntag\, den12. Mai 2024 von 11-17 Uhr\, gastiert der Deutsch-Holländische Stoffmarkt wieder in Hennef. Zahlreiche kreativ dekorierte Stände verwandeln den Marktplatz in ein buntes Stoffparadies für Nähbegeisterte aus der gesamten Region. \nDas Nähen erlebt eine Renaissance\, denn immer mehr Menschen sind auf der Suche nach individueller Kleidung. Ob es nun eine schicke Bluse aus leichtem Chiffon oder doch eher ein schönes T-Shirt aus weichem Jersey sein soll\, Ihrer Kreativität sind kaum Grenzen gesetzt. \nNatürlich wird den Besuchern auch vieles für die Innenraumgestaltung geboten. Ein neuer Bezug für die Polster\, modische Gardinen oder ein interessanter Tischläufer\, das richtige Material für Ihr nächstes Design ist auf dem Stoffmarkt schnell gefunden. \nNeben der riesigen Auswahl an Stoffen und Nähzubehör\, bietet der Stoffmarkt Nähbegeisterten ein kommunikatives Forum um zu fachsimpeln oder sich einfach auszutauschen. Umgeben von so vielen Farben\, Mustern und anderen Stoffenthusiasten\, kommt die Inspiration fast von allein. \nAbgerundet wird das Angebot durch eine riesige Auswahl an Schnittmustern und Kurzwaren wie Applikationen\, Borten\, Nadeln oder Garn.
URL:https://deinstoffmarkt.de/termine/stoffmarkt-hennef/
LOCATION:Hennef\, Marktplatz 29\, Hennef\, 53773\, Deutschland
CATEGORIES:Stoffmarkt
ORGANIZER;CN="Expo Event Marketing GmbH Gesch%C3%A4ftsf%C3%BChrer%3A Marko Krstic":MAILTO:info@expo-em.de
END:VEVENT
END:VCALENDAR