BEGIN:VCALENDAR
VERSION:2.0
PRODID:-//Dein Stoffmarkt - ECPv6.15.20//NONSGML v1.0//EN
CALSCALE:GREGORIAN
METHOD:PUBLISH
X-ORIGINAL-URL:https://deinstoffmarkt.de
X-WR-CALDESC:Veranstaltungen für Dein Stoffmarkt
REFRESH-INTERVAL;VALUE=DURATION:PT1H
X-Robots-Tag:noindex
X-PUBLISHED-TTL:PT1H
BEGIN:VTIMEZONE
TZID:Europe/Berlin
BEGIN:DAYLIGHT
TZOFFSETFROM:+0100
TZOFFSETTO:+0200
TZNAME:CEST
DTSTART:20230326T010000
END:DAYLIGHT
BEGIN:STANDARD
TZOFFSETFROM:+0200
TZOFFSETTO:+0100
TZNAME:CET
DTSTART:20231029T010000
END:STANDARD
BEGIN:DAYLIGHT
TZOFFSETFROM:+0100
TZOFFSETTO:+0200
TZNAME:CEST
DTSTART:20240331T010000
END:DAYLIGHT
BEGIN:STANDARD
TZOFFSETFROM:+0200
TZOFFSETTO:+0100
TZNAME:CET
DTSTART:20241027T010000
END:STANDARD
BEGIN:DAYLIGHT
TZOFFSETFROM:+0100
TZOFFSETTO:+0200
TZNAME:CEST
DTSTART:20250330T010000
END:DAYLIGHT
BEGIN:STANDARD
TZOFFSETFROM:+0200
TZOFFSETTO:+0100
TZNAME:CET
DTSTART:20251026T010000
END:STANDARD
END:VTIMEZONE
BEGIN:VEVENT
DTSTART;TZID=Europe/Berlin:20240407T110000
DTEND;TZID=Europe/Berlin:20240407T170000
DTSTAMP:20260421T164955
CREATED:20170512T065932Z
LAST-MODIFIED:20170512T065932Z
UID:1348-1712487600-1712509200@deinstoffmarkt.de
SUMMARY:Stoffmarkt Hildesheim
DESCRIPTION:Am Sonntag\, den 07. April 2024 von 11-17 Uhr\, findet der Deutsch-Holländische Stoffmarkt wieder in Hildesheim statt. Zahlreiche kreativ dekorierte Stände verwandeln die Innenstadt sprichwörtlich in ein buntes Meer aus Farben und Mustern. \nDas umfangreiche Sortiment an Kinderstoffen lädt förmlich dazu ein die Kinderkleidung selbst zu nähen und der Fantasie sind dabei kaum Grenzen gesetzt. So ist auch für die Kleinsten unter uns schnell das passende gefunden. \nAuch Freunde der Innenraumgestaltung kommen nicht zu kurz. Bei dem umfangreichen Sortiment an Wohntextilien\, Deko-Stoffen\, Kissen und Vorhängen ist das passende Material schnell gefunden\, um den eigenen vier Wänden einen neuen Look zu verpassen. \nAbgerundet wird das Angebot durch eine riesige Auswahl an Schnittmustern und Kurzwaren wie Applikationen\, Borten\, Nadeln oder Garn.
URL:https://deinstoffmarkt.de/termine/stoffmarkt-hildesheim/
LOCATION:Hildesheim\, Hoher Weg\, Hoher Weg\, 31134 Hildesheim\, Germany\, Hoher Weg\, Niedersachsen\, 31134\, Deutschland
CATEGORIES:Stoffmarkt
ORGANIZER;CN="Expo Event Marketing GmbH Gesch%C3%A4ftsf%C3%BChrer%3A Marko Krstic":MAILTO:info@expo-em.de
END:VEVENT
END:VCALENDAR